BEGIN:VCALENDAR
VERSION:2.0
PRODID:-//Maternidade Ativa - ECPv5.16.1.1//NONSGML v1.0//EN
CALSCALE:GREGORIAN
METHOD:PUBLISH
X-ORIGINAL-URL:https://maternidadeativa.com.br
X-WR-CALDESC:Eventos para Maternidade Ativa
REFRESH-INTERVAL;VALUE=DURATION:PT1H
X-Robots-Tag:noindex
X-PUBLISHED-TTL:PT1H
BEGIN:VTIMEZONE
TZID:America/Sao_Paulo
BEGIN:STANDARD
TZOFFSETFROM:-0300
TZOFFSETTO:-0300
TZNAME:-03
DTSTART:20230101T000000
END:STANDARD
END:VTIMEZONE
BEGIN:VEVENT
DTSTART;TZID=America/Sao_Paulo:20230125T090000
DTEND;TZID=America/Sao_Paulo:20230125T180000
DTSTAMP:20260425T203411
CREATED:20221027T181045Z
LAST-MODIFIED:20230116T170745Z
UID:751-1674637200-1674669600@maternidadeativa.com.br
SUMMARY:Curso de Complementação Prática para DOULAS de Parto - Presencial
DESCRIPTION::: Data e Horário: 25 de Janeiro de 2023 – das 9 às 18h  – ** CURSO CONFIRMADO ** \n\n\n\n:: Carga Horária: 8 horas \n\n\n\n:: Objetivos: Formar doulas (acompanhantes de parto) aptas a acompanhar parturientes em qualquer estágio do trabalho de parto\, dando conforto físico\, emocional\, afetivo e psicológico\, proporcionando à mulher uma experiência de parto a mais positiva possível. \n\n\n\n:: Público Alvo: Doulas certificadas \n\n\n\n:: Local do curso: Espaço Purusha – Rua São Benedito 1532 – Santo Amaro – Próx Metrô Alto da Boa Vista da Linha Lilás \n\n\n\n:: Programa:  \n\n\n\nComo aliviar a dor de parto da parturiente\, \n\n\n\nComo ajudar na Golden Hour e na pega correta na amamentação.  \n\n\n\nDicas de postura e ética \n\n\n\nBate-papo sobre a Legislação Municipal para Doulas \n\n\n\n:: Valores: \n\n\n\nR$ 350\,00 à vista (depósito/tranferência) ou R$ 380\,00 em até 3x sem juros ou 12x com juros. Utilize o link https://mpago.la/12uGKAw \n\n\n\n:: Outras informações: (11) 99773-9540 (whats app) Angelina email: maternidadeativa@uol.com.br   \n\n\n\n:: Inscrições: \n\n\n\n1) Enviar as informações abaixo para o email maternidadeativa@uol.com.br: \n\n\n\nNome \n\n\n\nCPF \n\n\n\nE-mail \n\n\n\nCelular com DDD \n\n\n\nCidade e Estado \n\n\n\nProfissão / Trabalho atual \n\n\n\nCurso para o qual está se inscrevendo \n\n\n\nComo soube do Gama? \n\n\n\n2) Efetuar o pagamento e enviar e-mail para maternidadeativa@uol.com.br com cópia do comprovante\, nome do aluno\, nome do curso. Se a confirmação não chegar em 2 dias úteis\, por favor entre em contato \n\n\n\nMaria Angelina Pita – CPF: 121.272.978-14 \n\n\n\nPIX 121.272.978-14 \n\n\n\nBanco Bradesco (237) Ag. 1799 C/C 2507-0
URL:https://maternidadeativa.com.br/curso/praticaparadoulas/
LOCATION:Online\, Brasil
CATEGORIES:Curso CONFIRMADO,Inscrições Abertas,Vagas Disponíveis
ATTACH;FMTTYPE=image/jpeg:https://maternidadeativa.com.br/wp-content/uploads/2022/10/Doula2.jpeg
ORGANIZER;CN="Angelina%20Pita":MAILTO:gamasp@maternidadeativa.com.br
END:VEVENT
END:VCALENDAR